BEGIN:VCALENDAR
VERSION:2.0
PRODID:-//Powiat Tomaszowski, Starostwo Powiatowe w Tomaszowie Lubelskim - ECPv6.15.13//NONSGML v1.0//EN
CALSCALE:GREGORIAN
METHOD:PUBLISH
X-WR-CALNAME:Powiat Tomaszowski, Starostwo Powiatowe w Tomaszowie Lubelskim
X-ORIGINAL-URL:https://powiat-tomaszowski.com.pl
X-WR-CALDESC:Wydarzenia dla Powiat Tomaszowski, Starostwo Powiatowe w Tomaszowie Lubelskim
REFRESH-INTERVAL;VALUE=DURATION:PT1H
X-Robots-Tag:noindex
X-PUBLISHED-TTL:PT1H
BEGIN:VTIMEZONE
TZID:UTC
BEGIN:STANDARD
TZOFFSETFROM:+0000
TZOFFSETTO:+0000
TZNAME:UTC
DTSTART:20230101T000000
END:STANDARD
END:VTIMEZONE
BEGIN:VEVENT
DTSTART;VALUE=DATE:20241215
DTEND;VALUE=DATE:20241216
DTSTAMP:20260421T115950
CREATED:20241129T090650Z
LAST-MODIFIED:20241129T090650Z
UID:58663-1734220800-1734307199@powiat-tomaszowski.com.pl
SUMMARY:Kiermasz świąteczny w Tomaszowie Lubelskim/TDK
DESCRIPTION:
URL:https://powiat-tomaszowski.com.pl/event/kiermasz-swiateczny-w-tomaszowie-lubelskim-tdk/
ATTACH;FMTTYPE=image/jpeg:https://powiat-tomaszowski.com.pl/wp-content/uploads/2024/11/tl_15.12.2024.jpg
END:VEVENT
BEGIN:VEVENT
DTSTART;VALUE=DATE:20241215
DTEND;VALUE=DATE:20241216
DTSTAMP:20260421T115950
CREATED:20241206T084500Z
LAST-MODIFIED:20241206T084500Z
UID:58795-1734220800-1734307199@powiat-tomaszowski.com.pl
SUMMARY:Spotkanie opłatkowe dla mieszkańców/Tomaszów Lubelski
DESCRIPTION:
URL:https://powiat-tomaszowski.com.pl/event/spotkanie-oplatkowe-dla-mieszkancow-tomaszow-lubelski/
ATTACH;FMTTYPE=image/jpeg:https://powiat-tomaszowski.com.pl/wp-content/uploads/2024/12/spotk.oplatkowe_15.12.2024.jpg
END:VEVENT
END:VCALENDAR