BEGIN:VCALENDAR
VERSION:2.0
PRODID:-//Powiat Tomaszowski, Starostwo Powiatowe w Tomaszowie Lubelskim - ECPv6.15.13//NONSGML v1.0//EN
CALSCALE:GREGORIAN
METHOD:PUBLISH
X-WR-CALNAME:Powiat Tomaszowski, Starostwo Powiatowe w Tomaszowie Lubelskim
X-ORIGINAL-URL:https://powiat-tomaszowski.com.pl
X-WR-CALDESC:Wydarzenia dla Powiat Tomaszowski, Starostwo Powiatowe w Tomaszowie Lubelskim
REFRESH-INTERVAL;VALUE=DURATION:PT1H
X-Robots-Tag:noindex
X-PUBLISHED-TTL:PT1H
BEGIN:VTIMEZONE
TZID:UTC
BEGIN:STANDARD
TZOFFSETFROM:+0000
TZOFFSETTO:+0000
TZNAME:UTC
DTSTART:20230101T000000
END:STANDARD
END:VTIMEZONE
BEGIN:VEVENT
DTSTART;VALUE=DATE:20241212
DTEND;VALUE=DATE:20241213
DTSTAMP:20260421T092033
CREATED:20241129T085621Z
LAST-MODIFIED:20241204T104922Z
UID:58661-1733961600-1734047999@powiat-tomaszowski.com.pl
SUMMARY:Kiermasz świąteczny w Tomaszowie Lubelskim
DESCRIPTION:
URL:https://powiat-tomaszowski.com.pl/event/kiermasz-swiateczny-w-tomaszowie-lubelskim/
ATTACH;FMTTYPE=image/jpeg:https://powiat-tomaszowski.com.pl/wp-content/uploads/2024/12/kiermasz_BN_2024.jpg
END:VEVENT
END:VCALENDAR