BEGIN:VCALENDAR
VERSION:2.0
PRODID:-//Powiat Tomaszowski, Starostwo Powiatowe w Tomaszowie Lubelskim - ECPv6.15.13//NONSGML v1.0//EN
CALSCALE:GREGORIAN
METHOD:PUBLISH
X-WR-CALNAME:Powiat Tomaszowski, Starostwo Powiatowe w Tomaszowie Lubelskim
X-ORIGINAL-URL:https://powiat-tomaszowski.com.pl
X-WR-CALDESC:Wydarzenia dla Powiat Tomaszowski, Starostwo Powiatowe w Tomaszowie Lubelskim
REFRESH-INTERVAL;VALUE=DURATION:PT1H
X-Robots-Tag:noindex
X-PUBLISHED-TTL:PT1H
BEGIN:VTIMEZONE
TZID:UTC
BEGIN:STANDARD
TZOFFSETFROM:+0000
TZOFFSETTO:+0000
TZNAME:UTC
DTSTART:20230101T000000
END:STANDARD
END:VTIMEZONE
BEGIN:VEVENT
DTSTART;VALUE=DATE:20240707
DTEND;VALUE=DATE:20240708
DTSTAMP:20260421T081322
CREATED:20240621T071031Z
LAST-MODIFIED:20240621T071031Z
UID:56463-1720310400-1720396799@powiat-tomaszowski.com.pl
SUMMARY:II Regionalny Festiwal Folklorystyczny im. Marianny Gumieli w Suminie
DESCRIPTION:
URL:https://powiat-tomaszowski.com.pl/event/ii-regionalny-festiwal-folklorystyczny-im-marianny-gumieli-w-suminie/
ATTACH;FMTTYPE=image/jpeg:https://powiat-tomaszowski.com.pl/wp-content/uploads/2024/06/7.07.2024.jpg
END:VEVENT
BEGIN:VEVENT
DTSTART;VALUE=DATE:20240707
DTEND;VALUE=DATE:20240708
DTSTAMP:20260421T081322
CREATED:20240704T111547Z
LAST-MODIFIED:20240704T111547Z
UID:56681-1720310400-1720396799@powiat-tomaszowski.com.pl
SUMMARY:Spotkania poetów i malarzy w Dzierążni
DESCRIPTION:
URL:https://powiat-tomaszowski.com.pl/event/spotkania-poetow-i-malarzy-w-dzierazni-3/
ATTACH;FMTTYPE=image/jpeg:https://powiat-tomaszowski.com.pl/wp-content/uploads/2024/07/dzieraznia_7.07.2024.jpg
END:VEVENT
END:VCALENDAR